BEGIN:VCALENDAR
VERSION:2.0
PRODID:-//Furgonetas Lowcost - ECPv5.10.0//NONSGML v1.0//EN
CALSCALE:GREGORIAN
METHOD:PUBLISH
X-WR-CALNAME:Furgonetas Lowcost
X-ORIGINAL-URL:http://furgonetaslowcost.com
X-WR-CALDESC:Eventos para Furgonetas Lowcost
BEGIN:VTIMEZONE
TZID:Europe/Paris
BEGIN:DAYLIGHT
TZOFFSETFROM:+0100
TZOFFSETTO:+0200
TZNAME:CEST
DTSTART:20160327T010000
END:DAYLIGHT
BEGIN:STANDARD
TZOFFSETFROM:+0200
TZOFFSETTO:+0100
TZNAME:CET
DTSTART:20161030T010000
END:STANDARD
END:VTIMEZONE
BEGIN:VEVENT
DTSTART;TZID=Europe/Paris:20161126T080000
DTEND;TZID=Europe/Paris:20161126T170000
DTSTAMP:20260426T062841
CREATED:20161114T093141Z
LAST-MODIFIED:20161114T093141Z
UID:1128-1480147200-1480179600@furgonetaslowcost.com
SUMMARY:Tierra Santa
DESCRIPTION:
URL:http://furgonetaslowcost.com/calendario/tierra-santa/
END:VEVENT
END:VCALENDAR