BEGIN:VCALENDAR
VERSION:2.0
PRODID:-//Furgonetas Lowcost - ECPv5.10.0//NONSGML v1.0//EN
CALSCALE:GREGORIAN
METHOD:PUBLISH
X-WR-CALNAME:Furgonetas Lowcost
X-ORIGINAL-URL:http://furgonetaslowcost.com
X-WR-CALDESC:Eventos para Furgonetas Lowcost
BEGIN:VTIMEZONE
TZID:Europe/Paris
BEGIN:DAYLIGHT
TZOFFSETFROM:+0100
TZOFFSETTO:+0200
TZNAME:CEST
DTSTART:20230326T010000
END:DAYLIGHT
BEGIN:STANDARD
TZOFFSETFROM:+0200
TZOFFSETTO:+0100
TZNAME:CET
DTSTART:20231029T010000
END:STANDARD
END:VTIMEZONE
BEGIN:VEVENT
DTSTART;TZID=Europe/Paris:20230114T080000
DTEND;TZID=Europe/Paris:20230114T170000
DTSTAMP:20260423T004004
CREATED:20220810T115716Z
LAST-MODIFIED:20220810T115716Z
UID:3715-1673683200-1673715600@furgonetaslowcost.com
SUMMARY:Shego
DESCRIPTION:
URL:http://furgonetaslowcost.com/calendario/shego-43/
LOCATION:Pamplona\, Pamplona
END:VEVENT
END:VCALENDAR