BEGIN:VCALENDAR
VERSION:2.0
PRODID:-//Furgonetas Lowcost - ECPv5.10.0//NONSGML v1.0//EN
CALSCALE:GREGORIAN
METHOD:PUBLISH
X-WR-CALNAME:Furgonetas Lowcost
X-ORIGINAL-URL:http://furgonetaslowcost.com
X-WR-CALDESC:Eventos para Furgonetas Lowcost
BEGIN:VTIMEZONE
TZID:Europe/Paris
BEGIN:DAYLIGHT
TZOFFSETFROM:+0100
TZOFFSETTO:+0200
TZNAME:CEST
DTSTART:20180325T010000
END:DAYLIGHT
BEGIN:STANDARD
TZOFFSETFROM:+0200
TZOFFSETTO:+0100
TZNAME:CET
DTSTART:20181028T010000
END:STANDARD
END:VTIMEZONE
BEGIN:VEVENT
DTSTART;TZID=Europe/Paris:20180414T080000
DTEND;TZID=Europe/Paris:20180414T170000
DTSTAMP:20260423T031800
CREATED:20180126T183505Z
LAST-MODIFIED:20180126T183505Z
UID:1638-1523692800-1523725200@furgonetaslowcost.com
SUMMARY:Novedades Carminha
DESCRIPTION:
URL:http://furgonetaslowcost.com/calendario/novedades-carminha-90/
LOCATION:Granada\, Granada
END:VEVENT
END:VCALENDAR