BEGIN:VCALENDAR
VERSION:2.0
PRODID:-//Furgonetas Lowcost - ECPv5.10.0//NONSGML v1.0//EN
CALSCALE:GREGORIAN
METHOD:PUBLISH
X-WR-CALNAME:Furgonetas Lowcost
X-ORIGINAL-URL:http://furgonetaslowcost.com
X-WR-CALDESC:Eventos para Furgonetas Lowcost
BEGIN:VTIMEZONE
TZID:Europe/Paris
BEGIN:DAYLIGHT
TZOFFSETFROM:+0100
TZOFFSETTO:+0200
TZNAME:CEST
DTSTART:20210328T010000
END:DAYLIGHT
BEGIN:STANDARD
TZOFFSETFROM:+0200
TZOFFSETTO:+0100
TZNAME:CET
DTSTART:20211031T010000
END:STANDARD
END:VTIMEZONE
BEGIN:VEVENT
DTSTART;TZID=Europe/Paris:20210721T080000
DTEND;TZID=Europe/Paris:20210721T170000
DTSTAMP:20260422T141536
CREATED:20210420T160907Z
LAST-MODIFIED:20210607T101450Z
UID:2921-1626854400-1626886800@furgonetaslowcost.com
SUMMARY:Novedades Carminha
DESCRIPTION:
URL:http://furgonetaslowcost.com/calendario/novedades-carminha-174/
LOCATION:Pamplona\, Pamplona
END:VEVENT
END:VCALENDAR