BEGIN:VCALENDAR
VERSION:2.0
PRODID:-//Furgonetas Lowcost - ECPv5.10.0//NONSGML v1.0//EN
CALSCALE:GREGORIAN
METHOD:PUBLISH
X-WR-CALNAME:Furgonetas Lowcost
X-ORIGINAL-URL:http://furgonetaslowcost.com
X-WR-CALDESC:Eventos para Furgonetas Lowcost
BEGIN:VTIMEZONE
TZID:Europe/Paris
BEGIN:DAYLIGHT
TZOFFSETFROM:+0100
TZOFFSETTO:+0200
TZNAME:CEST
DTSTART:20180325T010000
END:DAYLIGHT
BEGIN:STANDARD
TZOFFSETFROM:+0200
TZOFFSETTO:+0100
TZNAME:CET
DTSTART:20181028T010000
END:STANDARD
END:VTIMEZONE
BEGIN:VEVENT
DTSTART;TZID=Europe/Paris:20180803T080000
DTEND;TZID=Europe/Paris:20180803T170000
DTSTAMP:20260422T221339
CREATED:20180707T171815Z
LAST-MODIFIED:20180707T171815Z
UID:1986-1533283200-1533315600@furgonetaslowcost.com
SUMMARY:Luis Brea y el Miedo
DESCRIPTION:
URL:http://furgonetaslowcost.com/calendario/luis-brea-y-el-miedo-5/
LOCATION:Santander\, Santander
END:VEVENT
END:VCALENDAR