BEGIN:VCALENDAR
VERSION:2.0
PRODID:-//Furgonetas Lowcost - ECPv5.10.0//NONSGML v1.0//EN
CALSCALE:GREGORIAN
METHOD:PUBLISH
X-WR-CALNAME:Furgonetas Lowcost
X-ORIGINAL-URL:http://furgonetaslowcost.com
X-WR-CALDESC:Eventos para Furgonetas Lowcost
BEGIN:VTIMEZONE
TZID:Europe/Paris
BEGIN:DAYLIGHT
TZOFFSETFROM:+0100
TZOFFSETTO:+0200
TZNAME:CEST
DTSTART:20170326T010000
END:DAYLIGHT
BEGIN:STANDARD
TZOFFSETFROM:+0200
TZOFFSETTO:+0100
TZNAME:CET
DTSTART:20171029T010000
END:STANDARD
END:VTIMEZONE
BEGIN:VEVENT
DTSTART;TZID=Europe/Paris:20170920T080000
DTEND;TZID=Europe/Paris:20170920T170000
DTSTAMP:20260423T143954
CREATED:20170914T172107Z
LAST-MODIFIED:20170914T172107Z
UID:1583-1505894400-1505926800@furgonetaslowcost.com
SUMMARY:Luis Brea y el Miedo
DESCRIPTION:
URL:http://furgonetaslowcost.com/calendario/luis-brea-y-el-miedo-4/
LOCATION:Lorca\, Lorca
END:VEVENT
END:VCALENDAR