BEGIN:VCALENDAR
VERSION:2.0
PRODID:-//Furgonetas Lowcost - ECPv5.10.0//NONSGML v1.0//EN
CALSCALE:GREGORIAN
METHOD:PUBLISH
X-WR-CALNAME:Furgonetas Lowcost
X-ORIGINAL-URL:http://furgonetaslowcost.com
X-WR-CALDESC:Eventos para Furgonetas Lowcost
BEGIN:VTIMEZONE
TZID:Europe/Paris
BEGIN:DAYLIGHT
TZOFFSETFROM:+0100
TZOFFSETTO:+0200
TZNAME:CEST
DTSTART:20170326T010000
END:DAYLIGHT
BEGIN:STANDARD
TZOFFSETFROM:+0200
TZOFFSETTO:+0100
TZNAME:CET
DTSTART:20171029T010000
END:STANDARD
END:VTIMEZONE
BEGIN:VEVENT
DTSTART;TZID=Europe/Paris:20171125T080000
DTEND;TZID=Europe/Paris:20171125T170000
DTSTAMP:20260423T115222
CREATED:20171018T094727Z
LAST-MODIFIED:20171018T094727Z
UID:1618-1511596800-1511629200@furgonetaslowcost.com
SUMMARY:Jaime Urrutia
DESCRIPTION:
URL:http://furgonetaslowcost.com/calendario/jaime-urrutia-10/
END:VEVENT
END:VCALENDAR