BEGIN:VCALENDAR
VERSION:2.0
PRODID:-//Furgonetas Lowcost - ECPv5.10.0//NONSGML v1.0//EN
CALSCALE:GREGORIAN
METHOD:PUBLISH
X-WR-CALNAME:Furgonetas Lowcost
X-ORIGINAL-URL:http://furgonetaslowcost.com
X-WR-CALDESC:Eventos para Furgonetas Lowcost
BEGIN:VTIMEZONE
TZID:Europe/Paris
BEGIN:DAYLIGHT
TZOFFSETFROM:+0100
TZOFFSETTO:+0200
TZNAME:CEST
DTSTART:20170326T010000
END:DAYLIGHT
BEGIN:STANDARD
TZOFFSETFROM:+0200
TZOFFSETTO:+0100
TZNAME:CET
DTSTART:20171029T010000
END:STANDARD
END:VTIMEZONE
BEGIN:VEVENT
DTSTART;TZID=Europe/Paris:20170622T080000
DTEND;TZID=Europe/Paris:20170622T170000
DTSTAMP:20260425T173413
CREATED:20170601T154516Z
LAST-MODIFIED:20170601T154516Z
UID:1465-1498118400-1498150800@furgonetaslowcost.com
SUMMARY:Good Times
DESCRIPTION:
URL:http://furgonetaslowcost.com/calendario/good-times/
LOCATION:Comporta\, Comporta
END:VEVENT
END:VCALENDAR