BEGIN:VCALENDAR
VERSION:2.0
PRODID:-//Furgonetas Lowcost - ECPv5.10.0//NONSGML v1.0//EN
CALSCALE:GREGORIAN
METHOD:PUBLISH
X-WR-CALNAME:Furgonetas Lowcost
X-ORIGINAL-URL:http://furgonetaslowcost.com
X-WR-CALDESC:Eventos para Furgonetas Lowcost
BEGIN:VTIMEZONE
TZID:Europe/Paris
BEGIN:DAYLIGHT
TZOFFSETFROM:+0100
TZOFFSETTO:+0200
TZNAME:CEST
DTSTART:20220327T010000
END:DAYLIGHT
BEGIN:STANDARD
TZOFFSETFROM:+0200
TZOFFSETTO:+0100
TZNAME:CET
DTSTART:20221030T010000
END:STANDARD
END:VTIMEZONE
BEGIN:VEVENT
DTSTART;TZID=Europe/Paris:20220825T080000
DTEND;TZID=Europe/Paris:20220825T170000
DTSTAMP:20260425T173311
CREATED:20220207T153837Z
LAST-MODIFIED:20220601T082320Z
UID:3330-1661414400-1661446800@furgonetaslowcost.com
SUMMARY:Boikot
DESCRIPTION:
URL:http://furgonetaslowcost.com/calendario/boikot-93/
LOCATION:Torelló\, Torelló
END:VEVENT
END:VCALENDAR