BEGIN:VCALENDAR
VERSION:2.0
PRODID:-//Furgonetas Lowcost - ECPv5.10.0//NONSGML v1.0//EN
CALSCALE:GREGORIAN
METHOD:PUBLISH
X-WR-CALNAME:Furgonetas Lowcost
X-ORIGINAL-URL:http://furgonetaslowcost.com
X-WR-CALDESC:Eventos para Furgonetas Lowcost
BEGIN:VTIMEZONE
TZID:Europe/Paris
BEGIN:DAYLIGHT
TZOFFSETFROM:+0100
TZOFFSETTO:+0200
TZNAME:CEST
DTSTART:20220327T010000
END:DAYLIGHT
BEGIN:STANDARD
TZOFFSETFROM:+0200
TZOFFSETTO:+0100
TZNAME:CET
DTSTART:20221030T010000
END:STANDARD
END:VTIMEZONE
BEGIN:VEVENT
DTSTART;TZID=Europe/Paris:20220709T080000
DTEND;TZID=Europe/Paris:20220709T170000
DTSTAMP:20260422T135115
CREATED:20220330T101310Z
LAST-MODIFIED:20220330T101310Z
UID:3423-1657353600-1657386000@furgonetaslowcost.com
SUMMARY:Boikot
DESCRIPTION:
URL:http://furgonetaslowcost.com/calendario/boikot-109/
LOCATION:Aguilar de Campoo\, Aguilar de Campoo
END:VEVENT
END:VCALENDAR