BEGIN:VCALENDAR
VERSION:2.0
PRODID:-//Furgonetas Lowcost - ECPv5.10.0//NONSGML v1.0//EN
CALSCALE:GREGORIAN
METHOD:PUBLISH
X-WR-CALNAME:Furgonetas Lowcost
X-ORIGINAL-URL:http://furgonetaslowcost.com
X-WR-CALDESC:Eventos para Furgonetas Lowcost
BEGIN:VTIMEZONE
TZID:Europe/Paris
BEGIN:DAYLIGHT
TZOFFSETFROM:+0100
TZOFFSETTO:+0200
TZNAME:CEST
DTSTART:20180325T010000
END:DAYLIGHT
BEGIN:STANDARD
TZOFFSETFROM:+0200
TZOFFSETTO:+0100
TZNAME:CET
DTSTART:20181028T010000
END:STANDARD
END:VTIMEZONE
BEGIN:VEVENT
DTSTART;TZID=Europe/Paris:20180810T080000
DTEND;TZID=Europe/Paris:20180810T170000
DTSTAMP:20260420T124554
CREATED:20180719T164255Z
LAST-MODIFIED:20180719T164255Z
UID:2013-1533888000-1533920400@furgonetaslowcost.com
SUMMARY:Alex O'Dogherty
DESCRIPTION:
URL:http://furgonetaslowcost.com/calendario/alex-odogherty-23/
LOCATION:Rota\, Rota
END:VEVENT
END:VCALENDAR