BEGIN:VCALENDAR
VERSION:2.0
PRODID:-//Furgonetas Lowcost - ECPv5.10.0//NONSGML v1.0//EN
CALSCALE:GREGORIAN
METHOD:PUBLISH
X-WR-CALNAME:Furgonetas Lowcost
X-ORIGINAL-URL:http://furgonetaslowcost.com
X-WR-CALDESC:Eventos para Furgonetas Lowcost
BEGIN:VTIMEZONE
TZID:Europe/Paris
BEGIN:DAYLIGHT
TZOFFSETFROM:+0100
TZOFFSETTO:+0200
TZNAME:CEST
DTSTART:20170326T010000
END:DAYLIGHT
BEGIN:STANDARD
TZOFFSETFROM:+0200
TZOFFSETTO:+0100
TZNAME:CET
DTSTART:20171029T010000
END:STANDARD
END:VTIMEZONE
BEGIN:VEVENT
DTSTART;TZID=Europe/Paris:20170930T080000
DTEND;TZID=Europe/Paris:20170930T170000
DTSTAMP:20260423T130214
CREATED:20170725T000851Z
LAST-MODIFIED:20170808T222106Z
UID:1543-1506758400-1506790800@furgonetaslowcost.com
SUMMARY:Alex O'Dogherty
DESCRIPTION:
URL:http://furgonetaslowcost.com/calendario/alex-odogherty-11/
LOCATION:Getafe\, Getafe
END:VEVENT
END:VCALENDAR